BEGIN:VCALENDAR
VERSION:2.0
PRODID:-//Nicholas Burkel, cellist - ECPv6.15.20//NONSGML v1.0//EN
CALSCALE:GREGORIAN
METHOD:PUBLISH
X-ORIGINAL-URL:https://nicholasburkel.com
X-WR-CALDESC:Events for Nicholas Burkel, cellist
REFRESH-INTERVAL;VALUE=DURATION:PT1H
X-Robots-Tag:noindex
X-PUBLISHED-TTL:PT1H
BEGIN:VTIMEZONE
TZID:Europe/Zurich
BEGIN:DAYLIGHT
TZOFFSETFROM:+0100
TZOFFSETTO:+0200
TZNAME:CEST
DTSTART:20210328T010000
END:DAYLIGHT
BEGIN:STANDARD
TZOFFSETFROM:+0200
TZOFFSETTO:+0100
TZNAME:CET
DTSTART:20211031T010000
END:STANDARD
BEGIN:DAYLIGHT
TZOFFSETFROM:+0100
TZOFFSETTO:+0200
TZNAME:CEST
DTSTART:20220327T010000
END:DAYLIGHT
BEGIN:STANDARD
TZOFFSETFROM:+0200
TZOFFSETTO:+0100
TZNAME:CET
DTSTART:20221030T010000
END:STANDARD
BEGIN:DAYLIGHT
TZOFFSETFROM:+0100
TZOFFSETTO:+0200
TZNAME:CEST
DTSTART:20230326T010000
END:DAYLIGHT
BEGIN:STANDARD
TZOFFSETFROM:+0200
TZOFFSETTO:+0100
TZNAME:CET
DTSTART:20231029T010000
END:STANDARD
END:VTIMEZONE
BEGIN:VEVENT
DTSTART;TZID=Europe/Zurich:20221111T170000
DTEND;TZID=Europe/Zurich:20221111T170000
DTSTAMP:20260419T180225
CREATED:20221008T115101Z
LAST-MODIFIED:20221008T115101Z
UID:134-1668186000-1668186000@nicholasburkel.com
SUMMARY:Podium: Klasse Thomas Grossenbacher
DESCRIPTION:Schubert\, Arpeggione Sonata
URL:https://nicholasburkel.com/event/podium-klasse-thomas-grossenbacher/
LOCATION:ZHdK
END:VEVENT
BEGIN:VEVENT
DTSTART;TZID=Europe/Zurich:20221105T180000
DTEND;TZID=Europe/Zurich:20221105T200000
DTSTAMP:20260419T180225
CREATED:20221008T114839Z
LAST-MODIFIED:20221008T114839Z
UID:132-1667671200-1667678400@nicholasburkel.com
SUMMARY:Luzern Sinfonieorchester Ball
DESCRIPTION:
URL:https://nicholasburkel.com/event/luzern-sinfonieorchester-ball/
LOCATION:KKL Luzern
END:VEVENT
BEGIN:VEVENT
DTSTART;TZID=Europe/Zurich:20221009T080000
DTEND;TZID=Europe/Zurich:20221009T170000
DTSTAMP:20260419T180225
CREATED:20221008T180307Z
LAST-MODIFIED:20221008T180307Z
UID:179-1665302400-1665334800@nicholasburkel.com
SUMMARY:test
DESCRIPTION:
URL:https://nicholasburkel.com/event/test/
END:VEVENT
END:VCALENDAR