BEGIN:VCALENDAR
VERSION:2.0
PRODID:-//Nicholas Burkel, cellist - ECPv6.15.20//NONSGML v1.0//EN
CALSCALE:GREGORIAN
METHOD:PUBLISH
X-WR-CALNAME:Nicholas Burkel, cellist
X-ORIGINAL-URL:https://nicholasburkel.com
X-WR-CALDESC:Events for Nicholas Burkel, cellist
REFRESH-INTERVAL;VALUE=DURATION:PT1H
X-Robots-Tag:noindex
X-PUBLISHED-TTL:PT1H
BEGIN:VTIMEZONE
TZID:Europe/Zurich
BEGIN:DAYLIGHT
TZOFFSETFROM:+0100
TZOFFSETTO:+0200
TZNAME:CEST
DTSTART:20210328T010000
END:DAYLIGHT
BEGIN:STANDARD
TZOFFSETFROM:+0200
TZOFFSETTO:+0100
TZNAME:CET
DTSTART:20211031T010000
END:STANDARD
BEGIN:DAYLIGHT
TZOFFSETFROM:+0100
TZOFFSETTO:+0200
TZNAME:CEST
DTSTART:20220327T010000
END:DAYLIGHT
BEGIN:STANDARD
TZOFFSETFROM:+0200
TZOFFSETTO:+0100
TZNAME:CET
DTSTART:20221030T010000
END:STANDARD
BEGIN:DAYLIGHT
TZOFFSETFROM:+0100
TZOFFSETTO:+0200
TZNAME:CEST
DTSTART:20230326T010000
END:DAYLIGHT
BEGIN:STANDARD
TZOFFSETFROM:+0200
TZOFFSETTO:+0100
TZNAME:CET
DTSTART:20231029T010000
END:STANDARD
BEGIN:DAYLIGHT
TZOFFSETFROM:+0100
TZOFFSETTO:+0200
TZNAME:CEST
DTSTART:20240331T010000
END:DAYLIGHT
BEGIN:STANDARD
TZOFFSETFROM:+0200
TZOFFSETTO:+0100
TZNAME:CET
DTSTART:20241027T010000
END:STANDARD
END:VTIMEZONE
BEGIN:VEVENT
DTSTART;TZID=Europe/Zurich:20230210T190000
DTEND;TZID=Europe/Zurich:20230210T220000
DTSTAMP:20260419T160446
CREATED:20221008T120016Z
LAST-MODIFIED:20221008T120016Z
UID:155-1676055600-1676066400@nicholasburkel.com
SUMMARY:Der Rosenkavalier
DESCRIPTION:
URL:https://nicholasburkel.com/event/der-rosenkavalier-2/
LOCATION:Luzerner Theater
END:VEVENT
BEGIN:VEVENT
DTSTART;TZID=Europe/Zurich:20230208T193000
DTEND;TZID=Europe/Zurich:20230208T213000
DTSTAMP:20260419T160446
CREATED:20221008T120049Z
LAST-MODIFIED:20221008T120157Z
UID:157-1675884600-1675891800@nicholasburkel.com
SUMMARY:Luzerner Sinfonieorchester\, Martha Argerich\, Klavier
DESCRIPTION:
URL:https://nicholasburkel.com/event/der-rosenkavalier-3/
LOCATION:KKL Luzern
END:VEVENT
BEGIN:VEVENT
DTSTART;TZID=Europe/Zurich:20230205T133000
DTEND;TZID=Europe/Zurich:20230205T173000
DTSTAMP:20260419T160446
CREATED:20221008T115915Z
LAST-MODIFIED:20221008T115915Z
UID:153-1675603800-1675618200@nicholasburkel.com
SUMMARY:Der Rosenkavalier
DESCRIPTION:
URL:https://nicholasburkel.com/event/der-rosenkavalier/
LOCATION:Luzerner Theater
END:VEVENT
BEGIN:VEVENT
DTSTART;TZID=Europe/Zurich:20230121T180000
DTEND;TZID=Europe/Zurich:20230121T230000
DTSTAMP:20260419T160446
CREATED:20221008T115841Z
LAST-MODIFIED:20221008T115841Z
UID:150-1674324000-1674342000@nicholasburkel.com
SUMMARY:Der Rosenkavalier\, Premier
DESCRIPTION:
URL:https://nicholasburkel.com/event/der-rosenkavalier-premier/
LOCATION:Luzerner Theater
END:VEVENT
BEGIN:VEVENT
DTSTART;TZID=Europe/Zurich:20230109T180000
DTEND;TZID=Europe/Zurich:20230109T230000
DTSTAMP:20260419T160446
CREATED:20221008T115659Z
LAST-MODIFIED:20221008T115659Z
UID:148-1673287200-1673305200@nicholasburkel.com
SUMMARY:Podium: Klasse Thomas Grossenbacher
DESCRIPTION:
URL:https://nicholasburkel.com/event/podium-klasse-thomas-grossenbacher-3/
LOCATION:ZHdK
END:VEVENT
BEGIN:VEVENT
DTSTART;TZID=Europe/Zurich:20230102T110000
DTEND;TZID=Europe/Zurich:20230102T130000
DTSTAMP:20260419T160446
CREATED:20221008T115619Z
LAST-MODIFIED:20221008T115619Z
UID:146-1672657200-1672664400@nicholasburkel.com
SUMMARY:Luzerner Sinfonieorchester\, New Years Concert
DESCRIPTION:
URL:https://nicholasburkel.com/event/luzerner-sinfonieorchester-new-years-concert-2/
LOCATION:KKL Luzern
END:VEVENT
BEGIN:VEVENT
DTSTART;TZID=Europe/Zurich:20230101T160000
DTEND;TZID=Europe/Zurich:20230101T180000
DTSTAMP:20260419T160446
CREATED:20221008T115531Z
LAST-MODIFIED:20221008T115531Z
UID:144-1672588800-1672596000@nicholasburkel.com
SUMMARY:Luzerner Sinfonieorchester\, New Years Concert
DESCRIPTION:
URL:https://nicholasburkel.com/event/luzerner-sinfonieorchester-new-years-concert/
LOCATION:KKL Luzern
END:VEVENT
BEGIN:VEVENT
DTSTART;TZID=Europe/Zurich:20221206T170000
DTEND;TZID=Europe/Zurich:20221206T220000
DTSTAMP:20260419T160446
CREATED:20221008T115420Z
LAST-MODIFIED:20221008T115420Z
UID:141-1670346000-1670364000@nicholasburkel.com
SUMMARY:Podium: Klasse Thomas Grossenbacher
DESCRIPTION:
URL:https://nicholasburkel.com/event/podium-klasse-thomas-grossenbacher-2/
LOCATION:ZHdK
END:VEVENT
BEGIN:VEVENT
DTSTART;VALUE=DATE:20221029
DTEND;VALUE=DATE:20221030
DTSTAMP:20260419T160446
CREATED:20221008T114631Z
LAST-MODIFIED:20221008T174600Z
UID:127-1667001600-1667087999@nicholasburkel.com
SUMMARY:Schubert Quintett\, Private Concert in Zürich
DESCRIPTION:Beethoven Sinfonie No. 5
URL:https://nicholasburkel.com/event/schubert/
END:VEVENT
BEGIN:VEVENT
DTSTART;TZID=Europe/Zurich:20221020T193000
DTEND;TZID=Europe/Zurich:20221020T213000
DTSTAMP:20260419T160446
CREATED:20221008T114513Z
LAST-MODIFIED:20221008T174723Z
UID:125-1666294200-1666301400@nicholasburkel.com
SUMMARY:Luzerner Sinfonieorchester\, Michael Sanderling conductor
DESCRIPTION:Beethoven Sinfonie No. 5
URL:https://nicholasburkel.com/event/luzerner-sinfonieorchester-michael-sanderling-conductor-2/
LOCATION:KKL Luzern
END:VEVENT
BEGIN:VEVENT
DTSTART;TZID=Europe/Zurich:20221019T193000
DTEND;TZID=Europe/Zurich:20221019T213000
DTSTAMP:20260419T160446
CREATED:20221008T114418Z
LAST-MODIFIED:20221008T174307Z
UID:122-1666207800-1666215000@nicholasburkel.com
SUMMARY:Luzerner Sinfonieorchester\, Michael Sanderling conductor
DESCRIPTION:Beethoven Sinfonie No. 5
URL:https://nicholasburkel.com/event/luzerner-sinfonieorchester-michael-sanderling-conductor/
LOCATION:KKL Luzern
END:VEVENT
BEGIN:VEVENT
DTSTART;TZID=Europe/Zurich:20221118T183000
DTEND;TZID=Europe/Zurich:20221118T203000
DTSTAMP:20260419T160446
CREATED:20221008T115330Z
LAST-MODIFIED:20221008T115330Z
UID:137-1668796200-1668803400@nicholasburkel.com
SUMMARY:Abschlusskonzert Dirigerworkshop\, Luzerner Sinfonieorchester
DESCRIPTION:
URL:https://nicholasburkel.com/event/abschlusskonzert-dirigerworkshop-luzerner-sinfonieorchester/
LOCATION:Orchesterhaus Kriens
END:VEVENT
BEGIN:VEVENT
DTSTART;TZID=Europe/Zurich:20221111T170000
DTEND;TZID=Europe/Zurich:20221111T170000
DTSTAMP:20260419T160446
CREATED:20221008T115101Z
LAST-MODIFIED:20221008T115101Z
UID:134-1668186000-1668186000@nicholasburkel.com
SUMMARY:Podium: Klasse Thomas Grossenbacher
DESCRIPTION:Schubert\, Arpeggione Sonata
URL:https://nicholasburkel.com/event/podium-klasse-thomas-grossenbacher/
LOCATION:ZHdK
END:VEVENT
BEGIN:VEVENT
DTSTART;TZID=Europe/Zurich:20221105T180000
DTEND;TZID=Europe/Zurich:20221105T200000
DTSTAMP:20260419T160446
CREATED:20221008T114839Z
LAST-MODIFIED:20221008T114839Z
UID:132-1667671200-1667678400@nicholasburkel.com
SUMMARY:Luzern Sinfonieorchester Ball
DESCRIPTION:
URL:https://nicholasburkel.com/event/luzern-sinfonieorchester-ball/
LOCATION:KKL Luzern
END:VEVENT
BEGIN:VEVENT
DTSTART;TZID=Europe/Zurich:20221009T080000
DTEND;TZID=Europe/Zurich:20221009T170000
DTSTAMP:20260419T160446
CREATED:20221008T180307Z
LAST-MODIFIED:20221008T180307Z
UID:179-1665302400-1665334800@nicholasburkel.com
SUMMARY:test
DESCRIPTION:
URL:https://nicholasburkel.com/event/test/
END:VEVENT
END:VCALENDAR